Workbook

Sheet 2009.un_jaun_Z_Spie
A1: LATVIJAS SMAIĻOTĀJU UN KANOE AIRĒTĀJU
A2: VFS SACENSĪBAS
A3: Limbaži, 2019.gada 2.februāris
A5: 2009.g.dz.un jaunāki ZĒNI
A6: REZULTĀTI
A7: SVARA STIEŅA SPIEŠANA GUĻUS 10 KG 1'
A8: Vieta | B8: Vārds | C8: Uzvārds | D8: Nr. | E8: Dz. gads | F8: Komanda | G8: Rezultāts
A9: 1 | B9: Veiko | C9: Aasma | D9: 381 | E9: 2009 | F9: Pärnu Kalev Spordikool | G9: 70
A10: 2 | B10: Olafs | C10: Stomanis | D10: 244 | E10: 2010 | F10: Talsu novada SS | G10: 63
A11: 3 | B11: Raivo | C11: Šmits | D11: 59 | E11: 2009 | F11: Limbažu/Salacgrīvas NSS | G11: 61
A12: 4 | B12: Ričards | C12: Legezs | D12: 58 | E12: 2009 | F12: Limbažu/Salacgrīvas NSS | G12: 59
A13: 5 | B13: Atis Mariss | C13: Skadiņš | D13: 241 | E13: 2010 | F13: Talsu novada SS | G13: 51
A14: 6 | B14: Bruno | C14: Zvejnieks | D14: 386 | E14: 2009 | F14: Ventspils "Spars" | G14: 49
A15: 7 | B15: Henrijs | C15: Ķeksis | D15: 388 | E15: 2009 | F15: Individuāli | G15: 47
A16: 8 | B16: Rainers | C16: Dogudovskis | D16: 242 | E16: 2009 | F16: Talsu novada SS | G16: 46
A17: 9 | B17: Samuels | C17: Kohūts | D17: 282 | E17: 2009 | F17: Jelgavas BJSS | G17: 43
A18: 10 | B18: Eduards | C18: Ārgals | D18: 243 | E18: 2009 | F18: Talsu novada SS | G18: 39
A19: 11 | B19: Rihards | C19: Gaiķens | D19: 216 | E19: 2010 | F19: AK "Kaija" | G19: 38
A20: 12 | B20: Daniels | C20: Ponomarenko | D20: 370 | E20: 2009 | F20: BJSS "Rīdzene" | G20: 35
... A24: 16 | B24: Patriks | C24: Jaunbērziņš | D24: 369 | E24: 2009 | F24: BJSS "Rīdzene" | G24: 26
A25: 17-18 | B25: Reinis | C25: Hildebrants | D25: 62 | E25: 2009 | F25: Limbažu/Salacgrīvas NSS | G25: 25
A26: 17-18 | B26: Kārlis | C26: Štrauss | D26: 283 | E26: 2010 | F26: Jelgavas BJSS | G26: 25
A27: 19 | B27: Krists | C27: Malahovskis | D27: 60 | E27: 2009 | F27: Limbažu/Salacgrīvas NSS | G27: 24

Sheet 2009.un_jaun_Z_Pagr
A1: LATVIJAS SMAIĻOTĀJU UN KANOE AIRĒTĀJU
A2: VFS SACENSĪBAS
A3: Limbaži, 2019.gada 2.februāris
A5: ='2009.un_jaun_Z_Spie'!A5:G5 -> 2009.g.dz.un jaunāki ZĒNI
A6: REZULTĀTI
A7: PAGRIEZIENI SĒDUS UZ GRĪDAS AR 3 KG PILDBUMBU 1'
A8: Vieta | B8: Vārds | C8: Uzvārds | D8: Nr. | E8: Dz. gads | F8: Komanda | G8: Rezultāts
A9: 1 | B9: Veiko | C9: Aasma | D9: 381 | E9: 2009 | F9: Pärnu Kalev Spordikool | G9: 114
A10: 2 | B10: Bruno | C10: Zvejnieks | D10: 386 | E10: 2009 | F10: Ventspils "Spars" | G10: 90
A11: 3 | B11: Ričards | C11: Legezs | D11: 58 | E11: 2009 | F11: Limbažu/Salacgrīvas NSS | G11: 87
A12: 3 | B12: Olafs | C12: Stomanis | D12: 244 | E12: 2010 | F12: Talsu novada SS | G12: 87
A13: 3 | B13: Henrijs | C13: Ķeksis | D13: 388 | E13: 2009 | F13: Individuāli | G13: 87
A14: 6 | B14: Atis Mariss | C14: Skadiņš | D14: 241 | E14: 2010 | F14: Talsu novada SS | G14: 82
A15: 7 | B15: Patriks | C15: Jaunbērziņš | D15: 369 | E15: 2009 | F15: BJSS "Rīdzene" | G15: 81
A16: 8-10 | B16: Samuels | C16: Kohūts | D16: 282 | E16: 2009 | F16: Jelgavas BJSS | G16: 77
A17: 8-10 | B17: Rainers | C17: Dogudovskis | D17: 242 | E17: 2009 | F17: Talsu novada SS | G17: 77
A18: 8-10 | B18: Glebs | C18: Krievāns | D18: 218 | E18: 2010 | F18: AK "Kaija" | G18: 77
A19: 11 | B19: Mārcis | C19: Ķibilds | D19: 281 | E19: 2010 | F19: Jelgavas BJSS | G19: 74
A20: 12 | B20: Rihards | C20: Gaiķens | D20: 216 | E20: 2010 | F20: AK "Kaija" | G20: 73
A21: 13 | B21: Kārlis | C21: Štrauss | D21: 283 | E21: 2010 | F21: Jelgavas BJSS | G21: 72
A22: 14-15 | B22: Krists | C22: Malahovskis | D22: 60 | E22: 2009 | F22: Limbažu/Salacgrīvas NSS | G22: 65
A23: 14-15 | B23: Daniels | C23: Ponomarenko | D23: 370 | E23: 2009 | F23: BJSS "Rīdzene" | G23: 65
A24: 16-17 | B24: Reinis | C24: Hildebrants | D24: 62 | E24: 2009 | F24: Limbažu/Salacgrīvas NSS | G24: 63
A25: 16-17 | B25: Kristers | C25: Osipovs | D25: 240 | E25: 2009 | F25: Talsu novada SS | G25: 63
A26: 18 | B26: Raivo | C26: Šmits | D26: 59 | E26: 2009 | F26: Limbažu/Salacgrīvas NSS | G26: 62
A27: 19 | B27: Eduards | C27: Ārgals | D27: 243 | E27: 2009 | F27: Talsu novada SS | G27: 61

Sheet 2009.un_jaun_Z_Pildb
A1: LATVIJAS SMAIĻOTĀJU UN KANOE AIRĒTĀJU
A2: VFS SACENSĪBAS
A3: Limbaži, 2019.gada 2.februāris
A5: ='2009.un_jaun_Z_Spie'!A5:G5 -> 2009.g.dz.un jaunāki ZĒNI
A6: REZULTĀTI
A7: PILDBUMBU PĀRNEŠANA (TAISNE 15M)
A8: Vieta | B8: Vārds | C8: Uzvārds | D8: Nr. | E8: Dz. gads | F8: Komanda | G8: Rezultāts
A9: 1 | B9: Veiko | C9: Aasma | D9: 381 | E9: 2009 | F9: Pärnu Kalev Spordikool | G9: 43.82
A10: 2 | B10: Olafs | C10: Stomanis | D10: 244 | E10: 2010 | F10: Talsu novada SS | G10: 44.06
A11: 3 | B11: Ričards | C11: Legezs | D11: 58 | E11: 2009 | F11: Limbažu/Salacgrīvas NSS | G11: 44.49
A12: 4 | B12: Samuels | C12: Kohūts | D12: 282 | E12: 2009 | F12: Jelgavas BJSS | G12: 47.77
A13: 5 | B13: Rihards | C13: Gaiķens | D13: 216 | E13: 2010 | F13: AK "Kaija" | G13: 48.05
A14: 6 | B14: Kristers | C14: Osipovs | D14: 240 | E14: 2009 | F14: Talsu novada SS | G14: 48.39
A15: 7-8 | B15: Raivo | C15: Šmits | D15: 59 | E15: 2009 | F15: Limbažu/Salacgrīvas NSS | G15: 49.19
A16: 7-8 | B16: Henrijs | C16: Ķeksis | D16: 388 | E16: 2009 | F16: Individuāli | G16: 49.19
A17: 9 | B17: Bruno | C17: Zvejnieks | D17: 386 | E17: 2009 | F17: Ventspils "Spars" | G17: 49.62
A18: 10 | B18: Mārcis | C18: Ķibilds | D18: 281 | E18: 2010 | F18: Jelgavas BJSS | G18: 49.68
A19: 11 | B19: Rainers | C19: Dogudovskis | D19: 242 | E19: 2009 | F19: Talsu novada SS | G19: 51.66
A20: 12 | B20: Patriks | C20: Jaunbērziņš | D20: 369 | E20: 2009 | F20: BJSS "Rīdzene" | G20: 51.96
A21: 13 | B21: Kārlis | C21: Štrauss | D21: 283 | E21: 2010 | F21: Jelgavas BJSS | G21: 52.13
A22: 14 | B22: Atis Mariss | C22: Skadiņš | D22: 241 | E22: 2010 | F22: Talsu novada SS | G22: 52.32
A23: 15 | B23: Eduards | C23: Ārgals | D23: 243 | E23: 2009 | F23: Talsu novada SS | G23: 56.06
A24: 16 | B24: Glebs | C24: Krievāns | D24: 218 | E24: 2010 | F24: AK "Kaija" | G24: 57.01
A25: 17 | B25: Reinis | C25: Hildebrants | D25: 62 | E25: 2009 | F25: Limbažu/Salacgrīvas NSS | G25: 57.48
A26: 18 | B26: Daniels | C26: Ponomarenko | D26: 370 | E26: 2009 | F26: BJSS "Rīdzene" | G26: 59.37
A27: 19 | B27: Krists | C27: Malahovskis | D27: 60 | E27: 2009 | F27: Limbažu/Salacgrīvas NSS | G27: 1:01,06

Sheet 2009.un_jaun_Z_500
A1: LATVIJAS SMAIĻOTĀJU UN KANOE AIRĒTĀJU
A2: VFS SACENSĪBAS
A3: Limbaži, 2019.gada 2.februāris
A5: ='2009.un_jaun_Z_Spie'!A5:G5 -> 2009.g.dz.un jaunāki ZĒNI
A6: REZULTĀTI
A7: SKRIEŠANA 500m
A8: Vieta | B8: Vārds | C8: Uzvārds | D8: Nr. | E8: Dz. gads | F8: Komanda | G8: Rezultāts
A9: 1 | B9: Ričards | C9: Legezs | D9: 58 | E9: 2009 | F9: Limbažu/Salacgrīvas NSS | G9: 0.0013761574
A10: 2 | B10: Veiko | C10: Aasma | D10: 381 | E10: 2009 | F10: Pärnu Kalev Spordikool | G10: 0.0014282407
A11: 3 | B11: Kārlis | C11: Štrauss | D11: 283 | E11: 2010 | F11: Jelgavas BJSS | G11: 0.0015358796
A12: 4 | B12: Henrijs | C12: Ķeksis | D12: 388 | E12: 2009 | F12: Individuāli | G12: 0.0015601852
A13: 5 | B13: Olafs | C13: Stomanis | D13: 244 | E13: 2010 | F13: Talsu novada SS | G13: 0.0015671296
A14: 6 | B14: Rihards | C14: Gaiķens | D14: 216 | E14: 2010 | F14: AK "Kaija" | G14: 0.0015763889
A15: 7 | B15: Samuels | C15: Kohūts | D15: 282 | E15: 2009 | F15: Jelgavas BJSS | G15: 0.0015891204
A16: 8 | B16: Mārcis | C16: Ķibilds | D16: 281 | E16: 2010 | F16: Jelgavas BJSS | G16: 0.0016493056
A17: 9 | B17: Bruno | C17: Zvejnieks | D17: 386 | E17: 2009 | F17: Ventspils "Spars" | G17: 0.00165625
A18: 10 | B18: Rainers | C18: Dogudovskis | D18: 242 | E18: 2009 | F18: Talsu novada SS | G18: 0.0016701389
A19: 11 | B19: Eduards | C19: Ārgals | D19: 243 | E19: 2009 | F19: Talsu novada SS | G19: 0.0017152778
A20: 12 | B20: Raivo | C20: Šmits | D20: 59 | E20: 2009 | F20: Limbažu/Salacgrīvas NSS | G20: 0.0017164352
... A27: 19 | B27: Krists | C27: Malahovskis | D27: 60 | E27: 2009 | F27: Limbažu/Salacgrīvas NSS | G27: 0.002275463

Sheet KOPV_Z
A1: ='2009.un_jaun_Z_Spie'!A1:G1 -> LATVIJAS SMAIĻOTĀJU UN KANOE AIRĒTĀJU
A2: ='2009.un_jaun_Z_Spie'!A2:G2 -> VFS SACENSĪBAS
A3: ='2009.un_jaun_Z_Spie'!A3:G3 -> Limbaži, 2019.gada 2.februāris
A4: ='2009.un_jaun_Z_Spie'!A5:G5 -> 2009.g.dz.un jaunāki ZĒNI
A5: KOPVĒRTĒJUMS
A6: REZULTĀTI
A7: Vieta | B7: Vārds | C7: Uzvārds | D7: Nr. | E7: Dz.gads | F7: Skola | G7: Spiešana | H7: Punkti | I7: Pagriez. | J7: Punkti | K7: Pild/b | L7: Punkti | M7: 500m | N7: Punkti | O7: KOPĀ
A8: 1 | B8: Veiko | C8: Aasma | D8: 381 | E8: 2009 | F8: Pärnu Kalev Spordikool | G8: 70 | H8: 1 | I8: 114 | J8: 1 | K8: 43.82 | L8: 1 | M8: 0.0014282407 | N8: 2 | O8: =H8+J8+L8+N8 -> 5
A9: 2-3 | B9: Ričards | C9: Legezs | D9: 58 | E9: 2009 | F9: Limbažu/Salacgrīvas NSS | G9: 59 | H9: 4 | I9: 87 | J9: 4 | K9: 44.49 | L9: 3 | M9: 0.0013761574 | N9: 1 | O9: =H9+J9+L9+N9 -> 12
A10: 2-3 | B10: Olafs | C10: Stomanis | D10: 244 | E10: 2010 | F10: Talsu novada SS | G10: 63 | H10: 2 | I10: 87 | J10: 3 | K10: 44.06 | L10: 2 | M10: 0.0015671296 | N10: 5 | O10: =H10+J10+L10+N10 -> 12
A11: 4 | B11: Henrijs | C11: Ķeksis | D11: 388 | E11: 2009 | F11: Individuāli | G11: 47 | H11: 7 | I11: 87 | J11: 5 | K11: 49.19 | L11: 7.5 | M11: 0.0015601852 | N11: 4 | O11: =H11+J11+L11+N11 -> 23.5
A12: 5 | B12: Bruno | C12: Zvejnieks | D12: 386 | E12: 2009 | F12: Ventspils "Spars" | G12: 49 | H12: 6 | I12: 90 | J12: 2 | K12: 49.62 | L12: 9 | M12: 0.00165625 | N12: 9 | O12: =H12+J12+L12+N12 -> 26
A13: 6 | B13: Samuels | C13: Kohūts | D13: 282 | E13: 2009 | F13: Jelgavas BJSS | G13: 43 | H13: 9 | I13: 77 | J13: 9 | K13: 47.77 | L13: 4 | M13: 0.0015891204 | N13: 7 | O13: =H13+J13+L13+N13 -> 29
A14: 7 | B14: Rihards | C14: Gaiķens | D14: 216 | E14: 2010 | F14: AK "Kaija" | G14: 38 | H14: 11 | I14: 73 | J14: 12 | K14: 48.05 | L14: 5 | M14: 0.0015763889 | N14: 6 | O14: =H14+J14+L14+N14 -> 34
A15: 8 | B15: Rainers | C15: Dogudovskis | D15: 242 | E15: 2009 | F15: Talsu novada SS | G15: 46 | H15: 8 | I15: 77 | J15: 9 | K15: 51.66 | L15: 11 | M15: 0.0016701389 | N15: 10 | O15: =H15+J15+L15+N15 -> 38
A16: 9 | B16: Atis Mariss | C16: Skadiņš | D16: 241 | E16: 2010 | F16: Talsu novada SS | G16: 51 | H16: 5 | I16: 82 | J16: 6 | K16: 52.32 | L16: 14 | M16: 0.0018148148 | N16: 15 | O16: =H16+J16+L16+N16 -> 40
A17: 10 | B17: Raivo | C17: Šmits | D17: 59 | E17: 2009 | F17: Limbažu/Salacgrīvas NSS | G17: 61 | H17: 3 | I17: 62 | J17: 18 | K17: 49.19 | L17: 7.5 | M17: 0.0017164352 | N17: 12 | O17: =H17+J17+L17+N17 -> 40.5
A18: 11 | B18: Mārcis | C18: Ķibilds | D18: 281 | E18: 2010 | F18: Jelgavas BJSS | G18: 30 | H18: 13 | I18: 74 | J18: 11 | K18: 49.68 | L18: 10 | M18: 0.0016493056 | N18: 8 | O18: =H18+J18+L18+N18 -> 42
A19: 12 | B19: Kārlis | C19: Štrauss | D19: 283 | E19: 2010 | F19: Jelgavas BJSS | G19: 25 | H19: 17.5 | I19: 72 | J19: 13 | K19: 52.13 | L19: 13 | M19: 0.0015358796 | N19: 3 | O19: =H19+J19+L19+N19 -> 46.5
A20: 13 | B20: Kristers | C20: Osipovs | D20: 240 | E20: 2009 | F20: Talsu novada SS | G20: 29 | H20: 14 | I20: 63 | J20: 16.5 | K20: 48.39 | L20: 6 | M20: 0.0017453704 | N20: 14 | O20: =H20+J20+L20+N20 -> 50.5
A21: 14 | B21: Patriks | C21: Jaunbērziņš | D21: 369 | E21: 2009 | F21: BJSS "Rīdzene" | G21: 26 | H21: 16 | I21: 81 | J21: 7 | K21: 51.96 | L21: 12 | M21: 0.0018171296 | N21: 16 | O21: =H21+J21+L21+N21 -> 51
A22: 15 | B22: Glebs | C22: Krievāns | D22: 218 | E22: 2010 | F22: AK "Kaija" | G22: 28 | H22: 15 | I22: 77 | J22: 9 | K22: 57.01 | L22: 16 | M22: 0.0017199074 | N22: 13 | O22: =H22+J22+L22+N22 -> 53
... A25: 18 | B25: Reinis | C25: Hildebrants | D25: 62 | E25: 2009 | F25: Limbažu/Salacgrīvas NSS | G25: 25 | H25: 17.5 | I25: 63 | J25: 16.5 | K25: 57.48 | L25: 17 | M25: 0.0018553241 | N25: 17 | O25: =H25+J25+L25+N25 -> 68
A26: 19 | B26: Krists | C26: Malahovskis | D26: 60 | E26: 2009 | F26: Limbažu/Salacgrīvas NSS | G26: 24 | H26: 19 | I26: 65 | J26: 14.5 | K26: 1:01,06 | L26: 19 | M26: 0.002275463 | N26: 19 | O26: =H26+J26+L26+N26 -> 71.5

Sheet 2009.un_jaun_M_Spie
A1: LATVIJAS SMAIĻOTĀJU UN KANOE AIRĒTĀJU
A2: VFS SACENSĪBAS
A3: Limbaži, 2019.gada 2.februāris
A5: 2009.g.dz.un jaunākas MEITENES
A6: REZULTĀTI
A7: SVARA STIEŅA SPIEŠANA GUĻUS 10 KG 1'
A8: Vieta | B8: Vārds | C8: Uzvārds | D8: Nr. | E8: Dz. gads | F8: Komanda | G8: Rezultāts
A9: 1 | B9: Katrīna | C9: Puriņa | D9: 125 | E9: 2009 | F9: Limbažu/Salacgrīvas NSS | G9: 42
A10: 2 | B10: Darja | C10: Veide | D10: 245 | E10: 2010 | F10: Talsu novada SS | G10: 15

Sheet 2009.un_jaun_M_Pagr
A1: LATVIJAS SMAIĻOTĀJU UN KANOE AIRĒTĀJU
A2: VFS SACENSĪBAS
A3: Limbaži, 2019.gada 2.februāris
A5: ='2009.un_jaun_M_Spie'!A5:G5 -> 2009.g.dz.un jaunākas MEITENES
A6: REZULTĀTI
A7: PAGRIEZIENI SĒDUS UZ GRĪDAS AR 3 KG PILDBUMBU 1'
A8: Vieta | B8: Vārds | C8: Uzvārds | D8: Nr. | E8: Dz. gads | F8: Komanda | G8: Rezultāts
A9: 1 | B9: Darja | C9: Veide | D9: 245 | E9: 2010 | F9: Talsu novada SS | G9: 84
A10: 2 | B10: Katrīna | C10: Puriņa | D10: 125 | E10: 2009 | F10: Limbažu/Salacgrīvas NSS | G10: 69

Sheet 2009.un_jaun_M_Pildb
A1: LATVIJAS SMAIĻOTĀJU UN KANOE AIRĒTĀJU
A2: VFS SACENSĪBAS
A3: Limbaži, 2019.gada 2.februāris
A5: ='2009.un_jaun_M_Spie'!A5:G5 -> 2009.g.dz.un jaunākas MEITENES
A6: REZULTĀTI
A7: PILDBUMBU PĀRNEŠANA (TAISNE 15M)
A8: Vieta | B8: Vārds | C8: Uzvārds | D8: Nr. | E8: Dz. gads | F8: Komanda | G8: Rezultāts
A9: 1 | B9: Darja | C9: Veide | D9: 245 | E9: 2010 | F9: Talsu novada SS | G9: 48.98
A10: 2 | B10: Katrīna | C10: Puriņa | D10: 125 | E10: 2009 | F10: Limbažu/Salacgrīvas NSS | G10: 50.31

Sheet 2009.un_jaun_M_500
A1: LATVIJAS SMAIĻOTĀJU UN KANOE AIRĒTĀJU
A2: VFS SACENSĪBAS
A3: Limbaži, 2019.gada 2.februāris
A5: ='2009.un_jaun_M_Spie'!A5:G5 -> 2009.g.dz.un jaunākas MEITENES
A6: REZULTĀTI
A7: SKRIEŠANA 500m
A8: Vieta | B8: Vārds | C8: Uzvārds | D8: Nr. | E8: Dz. gads | F8: Komanda | G8: Rezultāts
A9: 1 | B9: Darja | C9: Veide | D9: 245 | E9: 2010 | F9: Talsu novada SS | G9: 0.0018032407
A10: 2 | B10: Katrīna | C10: Puriņa | D10: 125 | E10: 2009 | F10: Limbažu/Salacgrīvas NSS | G10: 0.0018831019

Sheet KOPV_M
A1: ='2009.un_jaun_Z_Spie'!A1:G1 -> LATVIJAS SMAIĻOTĀJU UN KANOE AIRĒTĀJU
A2: ='2009.un_jaun_Z_Spie'!A2:G2 -> VFS SACENSĪBAS
A3: ='2009.un_jaun_Z_Spie'!A3:G3 -> Limbaži, 2019.gada 2.februāris
A4: ='2009.un_jaun_M_Spie'!A5:G5 -> 2009.g.dz.un jaunākas MEITENES
A5: KOPVĒRTĒJUMS
A6: REZULTĀTI
A7: Vieta | B7: Vārds | C7: Uzvārds | D7: Nr. | E7: Dz.gads | F7: Skola | G7: Spiešana | H7: Punkti | I7: Pagriez. | J7: Punkti | K7: Pild/b | L7: Punkti | M7: 600m | N7: Punkti | O7: KOPĀ
A8: 1 | B8: Darja | C8: Veide | D8: 245 | E8: 2010 | F8: Talsu novada SS | G8: 15 | H8: 2 | I8: 84 | J8: 1 | K8: 48.98 | L8: 1 | M8: 0.0018032407 | N8: 1 | O8: =H8+J8+L8+N8 -> 5
A9: 2 | B9: Katrīna | C9: Puriņa | D9: 125 | E9: 2009 | F9: Limbažu/Salacgrīvas NSS | G9: 42 | H9: 1 | I9: 69 | J9: 2 | K9: 50.31 | L9: 2 | M9: 0.0018831019 | N9: 2 | O9: =H9+J9+L9+N9 -> 7
