Workbook

Sheet 2005.-2006._Z_Spie
A1: LATVIJAS SMAIĻOTĀJU UN KANOE AIRĒTĀJU
A2: VFS SACENSĪBAS
A3: Limbaži, 2019.gada 2.februāris
A5: 2005.-2006.g.dz. ZĒNI
A6: REZULTĀTI
A7: SVARA STIEŅA SPIEŠANA GUĻUS 20 KG 1'
A8: Vieta | B8: Vārds | C8: Uzvārds | D8: Nr. | E8: Dz. gads | F8: Komanda | G8: Rezultāts
A9: 1 | B9: Rolands | C9: Kalniņš | D9: 357 | E9: 2005 | F9: BJSS "Rīdzene" | G9: 89 | H9: 1
A10: 2 | B10: Matīss | C10: Bērtulsons | D10: 167 | E10: 2005 | F10: Ventspils "Spars" | G10: 75 | H10: 2
A11: 3 | B11: Markuss | C11: Boļšijs | D11: 71 | E11: 2005 | F11: Limbažu/Salacgrīvas NSS | G11: 68 | H11: 3
A12: 3 | B12: Mārcis | C12: Galenieks | D12: 154 | E12: 2005 | F12: MSĢ-TSV SASS | G12: 68 | H12: 4
A13: 3 | B13: Māris | C13: Galenieks | D13: 155 | E13: 2005 | F13: MSĢ-TSV SASS | G13: 68 | H13: 5
A14: 6 | B14: Aleksandrs | C14: Sabarņa | D14: 141 | E14: 2005 | F14: Ventspils "Spars" | G14: 62 | H14: 6
A15: 7 | B15: Patriks Toms | C15: Līvmanis | D15: 353 | E15: 2005 | F15: BJSS "Rīdzene" | G15: 60 | H15: 7
A16: 8 | B16: Tomass Andrejs | C16: Vilemsons | D16: 97 | E16: 2005 | F16: Limbažu/Salacgrīvas NSS | G16: 58 | H16: 8
A17: 9 | B17: Kristofs | C17: Zaļupe | D17: 24 | E17: 2005 | F17: Limbažu/Salacgrīvas NSS | G17: 57 | H17: 9
A18: 10 | B18: Rinalds | C18: Runcis | D18: 99 | E18: 2005 | F18: Limbažu/Salacgrīvas NSS | G18: 56 | H18: 10
A19: 11-12 | B19: Rihards | C19: Alksnis | D19: 25 | E19: 2005 | F19: Limbažu/Salacgrīvas NSS | G19: 55 | H19: 11
A20: 11-12 | B20: Daniēls | C20: Suhanovs | D20: 145 | E20: 2005 | F20: Ventspils "Spars" | G20: 55 | H20: 12
A21: 13-14 | B21: Kristaps | C21: Vīksne | D21: 45 | E21: 2005 | F21: Limbažu/Salacgrīvas NSS | G21: 54 | H21: 13
A22: 13-14 | B22: Mareks | C22: Višņevskis | D22: 72 | E22: 2005 | F22: Limbažu/Salacgrīvas NSS | G22: 54 | H22: 14
A23: 15 | B23: Artjoms | C23: Čikuns | D23: 134 | E23: 2005 | F23: Jelgavas BJSS | G23: 53 | H23: 15
A24: 16 | B24: Adrians | C24: Niedre | D24: 168 | E24: 2005 | F24: Ventspils "Spars" | G24: 52 | H24: 16
A25: 17-18 | B25: Mārcis | C25: Tomsons | D25: 96 | E25: 2006 | F25: Limbažu/Salacgrīvas NSS | G25: 51 | H25: 17
A26: 17-18 | B26: Aleksis Mikus | C26: Vaicjanoks | D26: 264 | E26: 2005 | F26: Jelgavas BJSS | G26: 51 | H26: 18
A27: 19 | B27: Daniēls | C27: Siders | D27: 143 | E27: 2005 | F27: Ventspils "Spars" | G27: 50 | H27: 19
A28: 20 | B28: Alekss | C28: Engelbrehts | D28: 345 | E28: 2005 | F28: BJSS "Rīdzene" | G28: 46 | H28: 20
A29: 21-22 | B29: Maksims | C29: Šarapa | D29: 142 | E29: 2005 | F29: Ventspils "Spars" | G29: 45 | H29: 21
A30: 21-22 | B30: Ivans | C30: Popijs | D30: 351 | E30: 2006 | F30: BJSS "Rīdzene" | G30: 45 | H30: 22
A31: 23 | B31: Ignats | C31: Kunašs | D31: 127 | E31: 2005 | F31: Jelgavas BJSS | G31: 44 | H31: 23
A32: 24-25 | B32: Markuss Aleksandrs | C32: Sikorskis | D32: 265 | E32: 2006 | F32: Jelgavas BJSS | G32: 43 | H32: 24
A33: 24-25 | B33: Rafaels | C33: Šūpulnieks | D33: 358 | E33: 2006 | F33: BJSS "Rīdzene" | G33: 43 | H33: 25
A34: 26-29 | B34: Krišs | C34: Cepurnieks | D34: 85 | E34: 2005 | F34: Limbažu/Salacgrīvas NSS | G34: 42 | H34: 26
A35: 26-29 | B35: Ģirts | C35: Laudāns | D35: 263 | E35: 2005 | F35: Jelgavas BJSS | G35: 42 | H35: 27
A36: 26-29 | B36: Artūrs | C36: Vanags | D36: 266 | E36: 2006 | F36: Jelgavas BJSS | G36: 42 | H36: 28
A37: 26-29 | B37: Vitālijs | C37: Kuļešovs | D37: 173 | E37: 2006 | F37: Ventspils "Spars" | G37: 42 | H37: 29
A38: 30 | B38: Arturs | C38: Meijers | D38: 349 | E38: 2006 | F38: BJSS "Rīdzene" | G38: 40 | H38: 30
A39: 31-33 | B39: Ralfs | C39: Adata | D39: 53 | E39: 2006 | F39: Limbažu/Salacgrīvas NSS | G39: 37 | H39: 31
A40: 31-33 | B40: Ritvars | C40: Gūtmanis | D40: 70 | E40: 2005 | F40: Limbažu/Salacgrīvas NSS | G40: 37 | H40: 32
A41: 31-33 | B41: Daniels | C41: Banders | D41: 390 | E41: 2005 | F41: Limbažu/Salacgrīvas NSS | G41: 37 | H41: 33
...

Sheet 2005.-2006._Z_Piev
A1: LATVIJAS SMAIĻOTĀJU UN KANOE AIRĒTĀJU
A2: VFS SACENSĪBAS
A3: Limbaži, 2019.gada 2.februāris
A5: ='2005.-2006._Z_Spie'!A5:G5 -> 2005.-2006.g.dz. ZĒNI
A6: REZULTĀTI
A7: PIEVILKŠANĀS KĀRIENĀ (REIZES)
A8: Vieta | B8: Vārds | C8: Uzvārds | D8: Nr. | E8: Dz. gads | F8: Komanda | G8: Rezultāts
A9: 1 | B9: Ritvars | C9: Gūtmanis | D9: 70 | E9: 2005 | F9: Limbažu/Salacgrīvas NSS | G9: 24
A10: 1 | B10: Māris | C10: Galenieks | D10: 155 | E10: 2005 | F10: MSĢ-TSV SASS | G10: 24
A11: 3 | B11: Krišs | C11: Lasmanis | D11: 377 | E11: 2005 | F11: Ventspils "Spars" | G11: 23
A12: 4-5 | B12: Markuss | C12: Boļšijs | D12: 71 | E12: 2005 | F12: Limbažu/Salacgrīvas NSS | G12: 22
A13: 4-5 | B13: Mārcis | C13: Galenieks | D13: 154 | E13: 2005 | F13: MSĢ-TSV SASS | G13: 22
A14: 6-8 | B14: Ralfs | C14: Adata | D14: 53 | E14: 2006 | F14: Limbažu/Salacgrīvas NSS | G14: 17
A15: 6-8 | B15: Mareks | C15: Višņevskis | D15: 72 | E15: 2005 | F15: Limbažu/Salacgrīvas NSS | G15: 17
A16: 6-8 | B16: Vitālijs | C16: Kuļešovs | D16: 173 | E16: 2006 | F16: Ventspils "Spars" | G16: 17
A17: 9-13 | B17: Kristofs | C17: Zaļupe | D17: 24 | E17: 2005 | F17: Limbažu/Salacgrīvas NSS | G17: 15
A18: 9-13 | B18: Reinis | C18: Libors | D18: 48 | E18: 2005 | F18: Limbažu/Salacgrīvas NSS | G18: 15
A19: 9-13 | B19: Aleksis Mikus | C19: Vaicjanoks | D19: 264 | E19: 2005 | F19: Jelgavas BJSS | G19: 15
A20: 9-13 | B20: Silards | C20: Stromanis | D20: 232 | E20: 2006 | F20: Talsu novada SS | G20: 15
A21: 9-13 | B21: Timurs | C21: Garists | D21: 350 | E21: 2006 | F21: BJSS "Rīdzene" | G21: 15
A22: 14 | B22: Daniēls | C22: Suhanovs | D22: 145 | E22: 2005 | F22: Ventspils "Spars" | G22: 13
A23: 15-16 | B23: Tomass Andrejs | C23: Vilemsons | D23: 97 | E23: 2005 | F23: Limbažu/Salacgrīvas NSS | G23: 12
A24: 15-16 | B24: Artūrs Hugo | C24: Strokšs | D24: 230 | E24: 2006 | F24: Talsu novada SS | G24: 12
A25: 17-18 | B25: Rihards | C25: Alksnis | D25: 25 | E25: 2005 | F25: Limbažu/Salacgrīvas NSS | G25: 11
A26: 17-18 | B26: Daniēls | C26: Siders | D26: 143 | E26: 2005 | F26: Ventspils "Spars" | G26: 11
A27: 19 | B27: Kārlis | C27: Hermanis | D27: 225 | E27: 2005 | F27: Talsu novada SS | G27: 10
A28: 20 | B28: Adrians | C28: Niedre | D28: 168 | E28: 2005 | F28: Ventspils "Spars" | G28: 9
A29: 21-24 | B29: Kristaps | C29: Bērziņš | D29: 43 | E29: 2005 | F29: Limbažu/Salacgrīvas NSS | G29: 8
A30: 21-24 | B30: Kristaps | C30: Vīksne | D30: 45 | E30: 2005 | F30: Limbažu/Salacgrīvas NSS | G30: 8
A31: 21-24 | B31: Patriks Toms | C31: Līvmanis | D31: 353 | E31: 2005 | F31: BJSS "Rīdzene" | G31: 8
A32: 21-24 | B32: Rolands | C32: Kalniņš | D32: 357 | E32: 2005 | F32: BJSS "Rīdzene" | G32: 8
A33: 25-26 | B33: Artūrs | C33: Vanags | D33: 266 | E33: 2006 | F33: Jelgavas BJSS | G33: 7
A34: 25-26 | B34: Rafaels | C34: Šūpulnieks | D34: 358 | E34: 2006 | F34: BJSS "Rīdzene" | G34: 7
A35: 27-28 | B35: Raivis | C35: Lapiņš | D35: 47 | E35: 2005 | F35: Limbažu/Salacgrīvas NSS | G35: 6
A36: 27-28 | B36: Ignats | C36: Kunašs | D36: 127 | E36: 2005 | F36: Jelgavas BJSS | G36: 6
A37: 29-35 | B37: Krišs | C37: Cepurnieks | D37: 85 | E37: 2005 | F37: Limbažu/Salacgrīvas NSS | G37: 5
A38: 29-35 | B38: Mārtiņš | C38: Šilings | D38: 27 | E38: 2006 | F38: Limbažu/Salacgrīvas NSS | G38: 5
A39: 29-35 | B39: Rinalds | C39: Runcis | D39: 99 | E39: 2005 | F39: Limbažu/Salacgrīvas NSS | G39: 5
A40: 29-35 | B40: Roberts Jānis | C40: Tomsons | D40: 101 | E40: 2006 | F40: Limbažu/Salacgrīvas NSS | G40: 5
... A72: Bez.rez. | B72: Rihards | C72: Prūsis | D72: 355 | E72: 2005 | F72: BJSS "Rīdzene" | G72: 0

Sheet 2005.-2006._Z_Pildb
A1: LATVIJAS SMAIĻOTĀJU UN KANOE AIRĒTĀJU
A2: VFS SACENSĪBAS
A3: Limbaži, 2019.gada 2.februāris
A5: ='2005.-2006._Z_Spie'!A5:G5 -> 2005.-2006.g.dz. ZĒNI
A6: REZULTĀTI
A7: PILDBUMBU PĀRNEŠANA (TAISNE 15M)
A8: Vieta | B8: Vārds | C8: Uzvārds | D8: Nr. | E8: Dz. gads | F8: Komanda | G8: Rezultāts
A9: 1 | B9: Rolands | C9: Kalniņš | D9: 357 | E9: 2005 | F9: BJSS "Rīdzene" | G9: 0:50,47
A10: 2 | B10: Māris | C10: Galenieks | D10: 155 | E10: 2005 | F10: MSĢ-TSV SASS | G10: 0:54,23
A11: 3 | B11: Reinis | C11: Libors | D11: 48 | E11: 2005 | F11: Limbažu/Salacgrīvas NSS | G11: 0:54,50
A12: 4 | B12: Kristaps | C12: Vīksne | D12: 45 | E12: 2005 | F12: Limbažu/Salacgrīvas NSS | G12: 0:55,52
A13: 5 | B13: Krišs | C13: Cepurnieks | D13: 85 | E13: 2005 | F13: Limbažu/Salacgrīvas NSS | G13: 0:55,76
A14: 6 | B14: Mārtiņš | C14: Šilings | D14: 27 | E14: 2006 | F14: Limbažu/Salacgrīvas NSS | G14: 0:56,21
A15: 7 | B15: Daniēls | C15: Siders | D15: 143 | E15: 2005 | F15: Ventspils "Spars" | G15: 0:57,26
A16: 8 | B16: Kristofs | C16: Zaļupe | D16: 24 | E16: 2005 | F16: Limbažu/Salacgrīvas NSS | G16: 0:57,45
A17: 9 | B17: Aleksis Mikus | C17: Vaicjanoks | D17: 264 | E17: 2005 | F17: Jelgavas BJSS | G17: 0:57,48
A18: 10 | B18: Markuss | C18: Boļšijs | D18: 71 | E18: 2005 | F18: Limbažu/Salacgrīvas NSS | G18: 0:58,00
A19: 11 | B19: Kristaps | C19: Bērziņš | D19: 43 | E19: 2005 | F19: Limbažu/Salacgrīvas NSS | G19: 0:58,14
A20: 12 | B20: Maksims | C20: Šarapa | D20: 142 | E20: 2005 | F20: Ventspils "Spars" | G20: 0:58,50
... A34: 26 | B34: Kārlis | C34: Bērziņš | D34: 74 | E34: 2006 | F34: Limbažu/Salacgrīvas NSS | G34: 1:01,60
A35: 27-29 | B35: Markuss Aleksandrs | C35: Sikorskis | D35: 265 | E35: 2006 | F35: Jelgavas BJSS | G35: 1:01,68
A36: 27-29 | B36: Aleksandrs | C36: Sabarņa | D36: 141 | E36: 2005 | F36: Ventspils "Spars" | G36: 1:01,68
A37: 27-29 | B37: Ancis | C37: Šulcs | D37: 63 | E37: 2005 | F37: Limbažu/Salacgrīvas NSS | G37: 1:01,68
A38: 30 | B38: Rafaels | C38: Šūpulnieks | D38: 358 | E38: 2006 | F38: BJSS "Rīdzene" | G38: 1:01,77
A39: 31 | B39: Vitālijs | C39: Kuļešovs | D39: 173 | E39: 2006 | F39: Ventspils "Spars" | G39: 1:01,98
A40: 32 | B40: Kārlis | C40: Hermanis | D40: 225 | E40: 2005 | F40: Talsu novada SS | G40: 1:02,19
A41: 33 | B41: Artūrs | C41: Vanags | D41: 266 | E41: 2006 | F41: Jelgavas BJSS | G41: 1:02,80
A42: 34 | B42: Daniels | C42: Banders | D42: 390 | E42: 2005 | F42: Limbažu/Salacgrīvas NSS | G42: 1:02,81
A43: 35 | B43: Ritvars | C43: Gūtmanis | D43: 70 | E43: 2005 | F43: Limbažu/Salacgrīvas NSS | G43: 1:03,20
A44: 36 | B44: Mārtiņš | C44: Aldiņš | D44: 354 | E44: 2005 | F44: BJSS "Rīdzene" | G44: 1:03,45
A45: 37 | B45: Krišs | C45: Lasmanis | D45: 377 | E45: 2005 | F45: Ventspils "Spars" | G45: 1:04,65
A46: 38 | B46: Georgijs | C46: Žuks | D46: 341 | E46: 2006 | F46: BJSS "Rīdzene" | G46: 1:04,70
A47: 39 | B47: Matīss | C47: Cinis | D47: 49 | E47: 2005 | F47: Limbažu/Salacgrīvas NSS | G47: 1:05,32
A48: 40 | B48: Aleksandrs | C48: Romanovs | D48: 144 | E48: 2005 | F48: Ventspils "Spars" | G48: 1:05,50
A49: 41 | B49: Eduards | C49: Bartušs | D49: 210 | E49: 2006 | F49: AK "Kaija" | G49: 1:05,77
... A74: 66 | B74: Ivans | C74: Popijs | D74: 351 | E74: 2006 | F74: BJSS "Rīdzene" | G74: 1:18,92

Sheet 2005.-2006._Z_800
A1: LATVIJAS SMAIĻOTĀJU UN KANOE AIRĒTĀJU
A2: VFS SACENSĪBAS
A3: Limbaži, 2019.gada 2.februāris
A5: ='2005.-2006._Z_Spie'!A5:G5 -> 2005.-2006.g.dz. ZĒNI
A6: REZULTĀTI
A7: SKRIEŠANA 800m
A8: Vieta | B8: Vārds | C8: Uzvārds | D8: Nr. | E8: Dz. gads | F8: Komanda | G8: Rezultāts
A9: 1 | B9: Rolands | C9: Kalniņš | D9: 357 | E9: 2005 | F9: BJSS "Rīdzene" | G9: 0.0018703704
A10: 2 | B10: Kristofs | C10: Zaļupe | D10: 24 | E10: 2005 | F10: Limbažu/Salacgrīvas NSS | G10: 0.0018773148
A11: 3 | B11: Maksims | C11: Trubčaņins | D11: 343 | E11: 2006 | F11: BJSS "Rīdzene" | G11: 0.0019293981
A12: 4 | B12: Rihards | C12: Alksnis | D12: 25 | E12: 2005 | F12: Limbažu/Salacgrīvas NSS | G12: 0.0019421296
A13: 5 | B13: Vitālijs | C13: Kuļešovs | D13: 173 | E13: 2006 | F13: Ventspils "Spars" | G13: 0.0019560185
A14: 6 | B14: Kristaps | C14: Vīksne | D14: 45 | E14: 2005 | F14: Limbažu/Salacgrīvas NSS | G14: 0.0019675926
A15: 7 | B15: Aleksis Mikus | C15: Vaicjanoks | D15: 264 | E15: 2005 | F15: Jelgavas BJSS | G15: 0.0019814815
A16: 8 | B16: Ritvars | C16: Gūtmanis | D16: 70 | E16: 2005 | F16: Limbažu/Salacgrīvas NSS | G16: 0.0020208333
A17: 9 | B17: Tomass Andrejs | C17: Vilemsons | D17: 97 | E17: 2005 | F17: Limbažu/Salacgrīvas NSS | G17: 0.0020694444
A18: 10 | B18: Kristaps | C18: Bērziņš | D18: 43 | E18: 2005 | F18: Limbažu/Salacgrīvas NSS | G18: 0.0020706019
A19: 11 | B19: Mārtiņš | C19: Šilings | D19: 27 | E19: 2006 | F19: Limbažu/Salacgrīvas NSS | G19: 0.0020798611
A20: 12 | B20: Krišs | C20: Cepurnieks | D20: 85 | E20: 2005 | F20: Limbažu/Salacgrīvas NSS | G20: 0.0020844907
A21: 13-14 | B21: Reinis | C21: Libors | D21: 48 | E21: 2005 | F21: Limbažu/Salacgrīvas NSS | G21: 0.0020983796
A22: 13-14 | B22: Artjoms | C22: Košelevs | D22: 209 | E22: 2006 | F22: AK "Kaija" | G22: 0.0020983796
A23: 15 | B23: Rihards | C23: Prūsis | D23: 355 | E23: 2005 | F23: BJSS "Rīdzene" | G23: 0.0021122685
A24: 16 | B24: Daniēls | C24: Siders | D24: 143 | E24: 2005 | F24: Ventspils "Spars" | G24: 0.002125
A25: 17 | B25: Markuss | C25: Boļšijs | D25: 71 | E25: 2005 | F25: Limbažu/Salacgrīvas NSS | G25: 0.0021284722
A26: 18 | B26: Maksims | C26: Šarapa | D26: 142 | E26: 2005 | F26: Ventspils "Spars" | G26: 0.0021493056
A27: 19 | B27: Raivis | C27: Lapiņš | D27: 47 | E27: 2005 | F27: Limbažu/Salacgrīvas NSS | G27: 0.0021597222
A28: 20 | B28: Kārlis | C28: Hermanis | D28: 225 | E28: 2005 | F28: Talsu novada SS | G28: 0.0021631944
A29: 21 | B29: Patriks Toms | C29: Līvmanis | D29: 353 | E29: 2005 | F29: BJSS "Rīdzene" | G29: 0.0021678241
A30: 22 | B30: Ralfs | C30: Adata | D30: 53 | E30: 2006 | F30: Limbažu/Salacgrīvas NSS | G30: 0.0021712963
A31: 23 | B31: Mārcis | C31: Galenieks | D31: 154 | E31: 2005 | F31: MSĢ-TSV SASS | G31: 0.002193287
A32: 24 | B32: Marians | C32: Sprugevičs | D32: 342 | E32: 2005 | F32: BJSS "Rīdzene" | G32: 0.0022199074
A33: 25 | B33: Ņikita | C33: Tolkunovs | D33: 213 | E33: 2006 | F33: AK "Kaija" | G33: 0.0022314815
A34: 26 | B34: Rafaels | C34: Šūpulnieks | D34: 358 | E34: 2006 | F34: BJSS "Rīdzene" | G34: 0.0022326389
... A70: 62 | B70: Emīls | C70: Ķiršakmens | D70: 231 | E70: 2005 | F70: Talsu novada SS | G70: 0.0033101852
A71: 63 | B71: Markuss Aleksandrs | C71: Sikorskis | D71: 265 | E71: 2006 | F71: Jelgavas BJSS | G71: DNF
A72: 64 | B72: Tomass | C72: Jansons | D72: 184 | E72: 2006 | F72: Ventspils "Spars" | G72: DNF
A73: 65 | B73: Māris | C73: Galenieks | D73: 155 | E73: 2005 | F73: MSĢ-TSV SASS | G73: DNS

Sheet KOPV_Z
A1: ='2005.-2006._Z_Spie'!A1:G1 -> LATVIJAS SMAIĻOTĀJU UN KANOE AIRĒTĀJU
A2: ='2005.-2006._Z_Spie'!A2:G2 -> VFS SACENSĪBAS
A3: ='2005.-2006._Z_Spie'!A3:G3 -> Limbaži, 2019.gada 2.februāris
A4: ='2005.-2006._Z_Spie'!A5:G5 -> 2005.-2006.g.dz. ZĒNI
A5: KOPVĒRTĒJUMS
A6: REZULTĀTI
A7: Vieta | B7: Vārds | C7: Uzvārds | D7: Nr. | E7: Dz.gads | F7: Skola | G7: Spiešana | H7: Punkti | I7: Pievilkš. | J7: Punkti | K7: Pild/b | L7: Punkti | M7: 800m | N7: Punkti | O7: KOPĀ
A8: 1 | B8: Rolands | C8: Kalniņš | D8: 357 | E8: 2005 | F8: BJSS "Rīdzene" | G8: 89 | H8: 1 | I8: 8 | J8: 22.5 | K8: 0:50,47 | L8: 1 | M8: 0.0018703704 | N8: 1 | O8: =H8+J8+L8+N8 -> 25.5
A9: 2 | B9: Kristofs | C9: Zaļupe | D9: 24 | E9: 2005 | F9: Limbažu/Salacgrīvas NSS | G9: 57 | H9: 9 | I9: 15 | J9: 11 | K9: 0:57,45 | L9: 8 | M9: 0.0018773148 | N9: 2 | O9: =H9+J9+L9+N9 -> 30
A10: 3 | B10: Markuss | C10: Boļšijs | D10: 71 | E10: 2005 | F10: Limbažu/Salacgrīvas NSS | G10: 68 | H10: 4 | I10: 22 | J10: 4.5 | K10: 0:58,00 | L10: 10 | M10: 0.0021284722 | N10: 17 | O10: =H10+J10+L10+N10 -> 35.5
A11: 4 | B11: Aleksis Mikus | C11: Vaicjanoks | D11: 264 | E11: 2005 | F11: Jelgavas BJSS | G11: 51 | H11: 17.5 | I11: 15 | J11: 11 | K11: 0:57,48 | L11: 9 | M11: 0.0019814815 | N11: 7 | O11: =H11+J11+L11+N11 -> 44.5
A12: 5 | B12: Kristaps | C12: Vīksne | D12: 45 | E12: 2005 | F12: Limbažu/Salacgrīvas NSS | G12: 54 | H12: 13.5 | I12: 8 | J12: 22.5 | K12: 0:55,52 | L12: 4 | M12: 0.0019675926 | N12: 6 | O12: =H12+J12+L12+N12 -> 46
A13: 6 | B13: Tomass Andrejs | C13: Vilemsons | D13: 97 | E13: 2005 | F13: Limbažu/Salacgrīvas NSS | G13: 58 | H13: 8 | I13: 12 | J13: 15.5 | K13: 0:58,82 | L13: 14 | M13: 0.0020694444 | N13: 9 | O13: =H13+J13+L13+N13 -> 46.5
A14: 7 | B14: Mārcis | C14: Galenieks | D14: 154 | E14: 2005 | F14: MSĢ-TSV SASS | G14: 68 | H14: 4 | I14: 22 | J14: 4.5 | K14: 0:59,48 | L14: 16 | M14: 0.002193287 | N14: 23 | O14: =H14+J14+L14+N14 -> 47.5
A15: 8 | B15: Rihards | C15: Alksnis | D15: 25 | E15: 2005 | F15: Limbažu/Salacgrīvas NSS | G15: 55 | H15: 11.5 | I15: 11 | J15: 17.5 | K15: 0:59,34 | L15: 15 | M15: 0.0019421296 | N15: 4 | O15: =H15+J15+L15+N15 -> 48
A16: 9 | B16: Daniēls | C16: Siders | D16: 143 | E16: 2005 | F16: Ventspils "Spars" | G16: 50 | H16: 19 | I16: 11 | J16: 17.5 | K16: 0:57,26 | L16: 7 | M16: 0.002125 | N16: 16 | O16: =H16+J16+L16+N16 -> 59.5
A17: 10-11 | B17: Patriks Toms | C17: Līvmanis | D17: 353 | E17: 2005 | F17: BJSS "Rīdzene" | G17: 60 | H17: 7 | I17: 8 | J17: 22.5 | K17: 0:58,79 | L17: 13 | M17: 0.0021678241 | N17: 21 | O17: =H17+J17+L17+N17 -> 63.5
A18: 10-11 | B18: Reinis | C18: Libors | D18: 48 | E18: 2005 | F18: Limbažu/Salacgrīvas NSS | G18: 34 | H18: 36 | I18: 15 | J18: 11 | K18: 0:54,50 | L18: 3 | M18: 0.0020983796 | N18: 13.5 | O18: =H18+J18+L18+N18 -> 63.5
A19: 12 | B19: Vitālijs | C19: Kuļešovs | D19: 173 | E19: 2006 | F19: Ventspils "Spars" | G19: 42 | H19: 27.5 | I19: 17 | J19: 7 | K19: 1:01,98 | L19: 31 | M19: 0.0019560185 | N19: 5 | O19: =H19+J19+L19+N19 -> 70.5
A20: 13 | B20: Māris | C20: Galenieks | D20: 155 | E20: 2005 | F20: MSĢ-TSV SASS | G20: 68 | H20: 4 | I20: 24 | J20: 1.5 | K20: 0:54,23 | L20: 2 | M20: DNS | N20: 67.5 | O20: =H20+J20+L20+N20 -> 75
A21: 14 | B21: Krišs | C21: Cepurnieks | D21: 85 | E21: 2005 | F21: Limbažu/Salacgrīvas NSS | G21: 42 | H21: 27.5 | I21: 5 | J21: 31.5 | K21: 0:55,76 | L21: 5 | M21: 0.0020844907 | N21: 12 | O21: =H21+J21+L21+N21 -> 76
A22: 15 | B22: Ritvars | C22: Gūtmanis | D22: 70 | E22: 2005 | F22: Limbažu/Salacgrīvas NSS | G22: 37 | H22: 32 | I22: 24 | J22: 1.5 | K22: 1:03,20 | L22: 35 | M22: 0.0020208333 | N22: 8 | O22: =H22+J22+L22+N22 -> 76.5
A23: 16 | B23: Kristaps | C23: Bērziņš | D23: 43 | E23: 2005 | F23: Limbažu/Salacgrīvas NSS | G23: 32 | H23: 41 | I23: 8 | J23: 22.5 | K23: 0:58,14 | L23: 11 | M23: 0.0020706019 | N23: 10 | O23: =H23+J23+L23+N23 -> 84.5
A24: 17 | B24: Ralfs | C24: Adata | D24: 53 | E24: 2006 | F24: Limbažu/Salacgrīvas NSS | G24: 37 | H24: 32 | I24: 17 | J24: 7 | K24: 1:01,59 | L24: 25 | M24: 0.0021712963 | N24: 22 | O24: =H24+J24+L24+N24 -> 86
A25: 18 | B25: Mārtiņš | C25: Šilings | D25: 27 | E25: 2006 | F25: Limbažu/Salacgrīvas NSS | G25: 33 | H25: 38 | I25: 5 | J25: 31.5 | K25: 0:56,21 | L25: 6 | M25: 0.0020798611 | N25: 11 | O25: =H25+J25+L25+N25 -> 86.5
A26: 19 | B26: Daniēls | C26: Suhanovs | D26: 145 | E26: 2005 | F26: Ventspils "Spars" | G26: 55 | H26: 11.5 | I26: 13 | J26: 14 | K26: 1:01,26 | L26: 23 | M26: 0.0024803241 | N26: 44 | O26: =H26+J26+L26+N26 -> 92.5
A27: 20 | B27: Maksims | C27: Trubčaņins | D27: 343 | E27: 2006 | F27: BJSS "Rīdzene" | G27: 36 | H27: 34.5 | I27: 5 | J27: 31.5 | K27: 1:01,32 | L27: 24 | M27: 0.0019293981 | N27: 3 | O27: =H27+J27+L27+N27 -> 93
A28: 21 | B28: Maksims | C28: Šarapa | D28: 142 | E28: 2005 | F28: Ventspils "Spars" | G28: 45 | H28: 21.5 | I28: 1 | J28: 50.5 | K28: 0:58,50 | L28: 12 | M28: 0.0021493056 | N28: 18 | O28: =H28+J28+L28+N28 -> 102
A29: 22 | B29: Rafaels | C29: Šūpulnieks | D29: 358 | E29: 2006 | F29: BJSS "Rīdzene" | G29: 43 | H29: 24.5 | I29: 7 | J29: 25.5 | K29: 1:01,77 | L29: 30 | M29: 0.0022326389 | N29: 26 | O29: =H29+J29+L29+N29 -> 106
A30: 23 | B30: Timurs | C30: Garists | D30: 350 | E30: 2006 | F30: BJSS "Rīdzene" | G30: 30 | H30: 44.5 | I30: 15 | J30: 11 | K30: 0:59,82 | L30: 18 | M30: 0.002306713 | N30: 34 | O30: =H30+J30+L30+N30 -> 107.5
A31: 24 | B31: Aleksandrs | C31: Sabarņa | D31: 141 | E31: 2005 | F31: Ventspils "Spars" | G31: 62 | H31: 6 | I31: 4 | J31: 37.5 | K31: 1:01,68 | L31: 28 | M31: 0.0023368056 | N31: 37 | O31: =H31+J31+L31+N31 -> 108.5
A32: 25 | B32: Kārlis | C32: Hermanis | D32: 225 | E32: 2005 | F32: Talsu novada SS | G32: 32 | H32: 41 | I32: 10 | J32: 19 | K32: 1:02,19 | L32: 32 | M32: 0.0021631944 | N32: 20 | O32: =H32+J32+L32+N32 -> 112
... A37: 30 | B37: Adrians | C37: Niedre | D37: 168 | E37: 2005 | F37: Ventspils "Spars" | G37: 52 | H37: 16 | I37: 9 | J37: 20 | K37: 1:10,06 | L37: 52 | M37: 0.0024722222 | N37: 42 | O37: =H37+J37+L37+N37 -> 130
A38: 31-32 | B38: Ignats | C38: Kunašs | D38: 127 | E38: 2005 | F38: Jelgavas BJSS | G38: 44 | H38: 23 | I38: 6 | J38: 27.5 | K38: 1:08,75 | L38: 51 | M38: 0.0022662037 | N38: 31 | O38: =H38+J38+L38+N38 -> 132.5
A39: 31-32 | B39: Rihards | C39: Prūsis | D39: 355 | E39: 2005 | F39: BJSS "Rīdzene" | G39: 33 | H39: 38 | I39: 0 | J39: 58.5 | K39: 1:01,04 | L39: 21 | M39: 0.0021122685 | N39: 15 | O39: =H39+J39+L39+N39 -> 132.5
A40: 33 | B40: Marians | C40: Sprugevičs | D40: 342 | E40: 2005 | F40: BJSS "Rīdzene" | G40: 33 | H40: 38 | I40: 3 | J40: 41 | K40: 1:06,37 | L40: 43 | M40: 0.0022199074 | N40: 24 | O40: =H40+J40+L40+N40 -> 146
A41: 34 | B41: Krišs | C41: Lasmanis | D41: 377 | E41: 2005 | F41: Ventspils "Spars" | G41: 29 | H41: 49.5 | I41: 23 | J41: 3 | K41: 1:04,65 | L41: 37 | M41: 0.003 | N41: 59 | O41: =H41+J41+L41+N41 -> 148.5
A42: 35 | B42: Kārlis | C42: Bērziņš | D42: 74 | E42: 2006 | F42: Limbažu/Salacgrīvas NSS | G42: 27 | H42: 54.5 | I42: 4 | J42: 37.5 | K42: 1:01,60 | L42: 26 | M42: 0.0023263889 | N42: 35 | O42: =H42+J42+L42+N42 -> 153
A43: 36 | B43: Mārtiņš | C43: Aldiņš | D43: 354 | E43: 2005 | F43: BJSS "Rīdzene" | G43: 25 | H43: 59 | I43: 5 | J43: 31.5 | K43: 1:03,45 | L43: 36 | M43: 0.002244213 | N43: 28 | O43: =H43+J43+L43+N43 -> 154.5
A44: 37 | B44: Mareks | C44: Višņevskis | D44: 72 | E44: 2005 | F44: Limbažu/Salacgrīvas NSS | G44: 54 | H44: 13.5 | I44: 17 | J44: 7 | L44: 67 | N44: 67.5 | O44: =H44+J44+L44+N44 -> 155
...

Sheet 2005.-2006._M_Spie
A1: LATVIJAS SMAIĻOTĀJU UN KANOE AIRĒTĀJU
A2: VFS SACENSĪBAS
A3: Limbaži, 2019.gada 2.februāris
A5: 2005.-2006.g.dz. MEITENES
A6: REZULTĀTI
A7: SVARA STIEŅA SPIEŠANA GUĻUS 15 KG 1'
A8: Vieta | B8: Vārds | C8: Uzvārds | D8: Nr. | E8: Dz. gads | F8: Komanda | G8: Rezultāts
A9: 1 | B9: Dominika Helga | C9: Sikorska | D9: 332 | E9: 2005 | F9: BJSS "Rīdzene" | G9: 61
A10: 2 | B10: Sabīne | C10: Pīlāga | D10: 51 | E10: 2005 | F10: Limbažu/Salacgrīvas NSS | G10: 58
A11: 3 | B11: Renāte | C11: Bērziņa | D11: 55 | E11: 2005 | F11: Limbažu/Salacgrīvas NSS | G11: 53
A12: 4 | B12: Kate | C12: Straujā | D12: 227 | E12: 2005 | F12: Talsu novada SS | G12: 50
A13: 5 | B13: Antuanete | C13: Bāra | D13: 271 | E13: 2006 | F13: Jelgavas BJSS | G13: 48
A14: 6-8 | B14: Undīne | C14: Veidemane | D14: 5 | E14: 2005 | F14: Limbažu/Salacgrīvas NSS | G14: 47
A15: 6-8 | B15: Sabīne | C15: Taube | D15: 105 | E15: 2005 | F15: Limbažu/Salacgrīvas NSS | G15: 47
A16: 6-8 | B16: Nadežda | C16: Červinska | D16: 335 | E16: 2005 | F16: BJSS "Rīdzene" | G16: 47
A17: 9 | B17: Gabriela | C17: Nikonova | D17: 104 | E17: 2005 | F17: Limbažu/Salacgrīvas NSS | G17: 45
A18: 10-11 | B18: Sintija | C18: Grīnvalde | D18: 102 | E18: 2005 | F18: Limbažu/Salacgrīvas NSS | G18: 44
A19: 10-11 | B19: Liene | C19: Priekule | D19: 110 | E19: 2006 | F19: Limbažu/Salacgrīvas NSS | G19: 44
A20: 12 | B20: Melānija | C20: Čamane | D20: 270 | E20: 2006 | F20: Jelgavas BJSS | G20: 42
A21: 13 | B21: Nadīna Ance | C21: Tomsone | D21: 106 | E21: 2005 | F21: Limbažu/Salacgrīvas NSS | G21: 39
A22: 14-16 | B22: Marta Paula | C22: Brolīte | D22: 268 | E22: 2005 | F22: Jelgavas BJSS | G22: 38
A23: 14-16 | B23: Viktorija | C23: Paune | D23: 206 | E23: 2006 | F23: AK "Kaija" | G23: 38
A24: 14-16 | B24: Anna | C24: Gude | D24: 207 | E24: 2005 | F24: AK "Kaija" | G24: 38
A25: 17 | B25: Aleksandra | C25: Počtarenko | D25: 126 | E25: 2006 | F25: Jelgavas BJSS | G25: 36
A26: 18 | B26: Katrīna | C26: Kaula | D26: 336 | E26: 2006 | F26: BJSS "Rīdzene" | G26: 34
A27: 19-20 | B27: Katrīna | C27: Anaško | D27: 333 | E27: 2006 | F27: BJSS "Rīdzene" | G27: 31
A28: 19-20 | B28: Ulrika | C28: Skreitule | D28: 393 | E28: 2006 | F28: Limbažu/Salacgrīvas NSS | G28: 31
A29: 21 | B29: Annija | C29: Skreitule | D29: 52 | E29: 2005 | F29: Limbažu/Salacgrīvas NSS | G29: 25
A30: 22 | B30: Monta | C30: Dimanta | D30: 226 | E30: 2005 | F30: Talsu novada SS | G30: 24
A31: 23 | B31: Elza | C31: Mihņēviča | D31: 228 | E31: 2006 | F31: Talsu novada SS | G31: 21
A32: 24 | B32: Madara | C32: Brasliņa | D32: 269 | E32: 2005 | F32: Jelgavas BJSS | G32: 19
A33: 25 | B33: Marta | C33: Jēkabsone | D33: 205 | E33: 2006 | F33: AK "Kaija" | G33: 17

Sheet 2005.-2006._M_Piev
A1: LATVIJAS SMAIĻOTĀJU UN KANOE AIRĒTĀJU
A2: VFS SACENSĪBAS
A3: Limbaži, 2019.gada 2.februāris
A5: ='2005.-2006._M_Spie'!A5:G5 -> 2005.-2006.g.dz. MEITENES
A6: REZULTĀTI
A7: PIEVILKŠANĀS KĀRIENĀ (REIZES)
A8: Vieta | B8: Vārds | C8: Uzvārds | D8: Nr. | E8: Dz. gads | F8: Komanda | G8: Rezultāts
A9: 1 | B9: Liene | C9: Priekule | D9: 110 | E9: 2006 | F9: Limbažu/Salacgrīvas NSS | G9: 20
A10: 2 | B10: Undīne | C10: Veidemane | D10: 5 | E10: 2005 | F10: Limbažu/Salacgrīvas NSS | G10: 11
A11: 3 | B11: Gabriela | C11: Nikonova | D11: 104 | E11: 2005 | F11: Limbažu/Salacgrīvas NSS | G11: 10
A12: 4-5 | B12: Sabīne | C12: Pīlāga | D12: 51 | E12: 2005 | F12: Limbažu/Salacgrīvas NSS | G12: 8
A13: 4-5 | B13: Kate | C13: Straujā | D13: 227 | E13: 2005 | F13: Talsu novada SS | G13: 8
A14: 6-7 | B14: Anna | C14: Gude | D14: 207 | E14: 2005 | F14: AK "Kaija" | G14: 6
A15: 6-7 | B15: Dominika Helga | C15: Sikorska | D15: 332 | E15: 2005 | F15: BJSS "Rīdzene" | G15: 6
A16: 8 | B16: Antuanete | C16: Bāra | D16: 271 | E16: 2006 | F16: Jelgavas BJSS | G16: 5
A17: 9-12 | B17: Sintija | C17: Grīnvalde | D17: 102 | E17: 2005 | F17: Limbažu/Salacgrīvas NSS | G17: 1
A18: 9-12 | B18: Nadīna Ance | C18: Tomsone | D18: 106 | E18: 2005 | F18: Limbažu/Salacgrīvas NSS | G18: 1
A19: 9-12 | B19: Marta Paula | C19: Brolīte | D19: 268 | E19: 2005 | F19: Jelgavas BJSS | G19: 1
A20: 9-12 | B20: Katrīna | C20: Anaško | D20: 333 | E20: 2006 | F20: BJSS "Rīdzene" | G20: 1
A21: Bez.rez. | B21: Sabīne | C21: Taube | D21: 105 | E21: 2005 | F21: Limbažu/Salacgrīvas NSS | G21: 0
A22: Bez.rez. | B22: Aleksandra | C22: Počtarenko | D22: 126 | E22: 2006 | F22: Jelgavas BJSS | G22: 0
A23: Bez.rez. | B23: Madara | C23: Brasliņa | D23: 269 | E23: 2005 | F23: Jelgavas BJSS | G23: 0
A24: Bez.rez. | B24: Melānija | C24: Čamane | D24: 270 | E24: 2006 | F24: Jelgavas BJSS | G24: 0
A25: Bez.rez. | B25: Monta | C25: Dimanta | D25: 226 | E25: 2005 | F25: Talsu novada SS | G25: 0
A26: Bez.rez. | B26: Elza | C26: Mihņēviča | D26: 228 | E26: 2006 | F26: Talsu novada SS | G26: 0
A27: Bez.rez. | B27: Marta | C27: Jēkabsone | D27: 205 | E27: 2006 | F27: AK "Kaija" | G27: 0
A28: Bez.rez. | B28: Viktorija | C28: Paune | D28: 206 | E28: 2006 | F28: AK "Kaija" | G28: 0
... A31: Bez.rez. | B31: Katrīna | C31: Kaula | D31: 336 | E31: 2006 | F31: BJSS "Rīdzene" | G31: 0

Sheet 2005.-2006._M_Pildb
A1: LATVIJAS SMAIĻOTĀJU UN KANOE AIRĒTĀJU
A2: VFS SACENSĪBAS
A3: Limbaži, 2019.gada 2.februāris
A5: ='2005.-2006._M_Spie'!A5:G5 -> 2005.-2006.g.dz. MEITENES
A6: REZULTĀTI
A7: PILDBUMBU PĀRNEŠANA (TAISNE 15M)
A8: Vieta | B8: Vārds | C8: Uzvārds | D8: Nr. | E8: Dz. gads | F8: Komanda | G8: Rezultāts
A9: 1 | B9: Dominika Helga | C9: Sikorska | D9: 332 | E9: 2005 | F9: BJSS "Rīdzene" | G9: 0:57,95
A10: 2 | B10: Undīne | C10: Veidemane | D10: 5 | E10: 2005 | F10: Limbažu/Salacgrīvas NSS | G10: 0:58,62
A11: 3 | B11: Marta Paula | C11: Brolīte | D11: 268 | E11: 2005 | F11: Jelgavas BJSS | G11: 0:59,39
A12: 4 | B12: Sabīne | C12: Pīlāga | D12: 51 | E12: 2005 | F12: Limbažu/Salacgrīvas NSS | G12: 0:59,76
A13: 5 | B13: Liene | C13: Priekule | D13: 110 | E13: 2006 | F13: Limbažu/Salacgrīvas NSS | G13: 0:59,82
A14: 6 | B14: Nadežda | C14: Červinska | D14: 335 | E14: 2005 | F14: BJSS "Rīdzene" | G14: 1:01,84
A15: 7 | B15: Gabriela | C15: Nikonova | D15: 104 | E15: 2005 | F15: Limbažu/Salacgrīvas NSS | G15: 1:02,39
A16: 8 | B16: Melānija | C16: Čamane | D16: 270 | E16: 2006 | F16: Jelgavas BJSS | G16: 1:02,75
A17: 9 | B17: Nadīna Ance | C17: Tomsone | D17: 106 | E17: 2005 | F17: Limbažu/Salacgrīvas NSS | G17: 1:02,95
A18: 10 | B18: Kate | C18: Straujā | D18: 227 | E18: 2005 | F18: Talsu novada SS | G18: 1:03,78
A19: 11 | B19: Monta | C19: Dimanta | D19: 226 | E19: 2005 | F19: Talsu novada SS | G19: 1:04,56
A20: 12 | B20: Antuanete | C20: Bāra | D20: 271 | E20: 2006 | F20: Jelgavas BJSS | G20: 1:06,09
... A32: 24 | B32: Marta | C32: Jēkabsone | D32: 205 | E32: 2006 | F32: AK "Kaija" | G32: 1:29,65

Sheet 2005.-2006._M_800
A1: LATVIJAS SMAIĻOTĀJU UN KANOE AIRĒTĀJU
A2: VFS SACENSĪBAS
A3: Limbaži, 2019.gada 2.februāris
A5: ='2005.-2006._M_Spie'!A5:G5 -> 2005.-2006.g.dz. MEITENES
A6: REZULTĀTI
A7: SKRIEŠANA 800m
A8: Vieta | B8: Vārds | C8: Uzvārds | D8: Nr. | E8: Dz. gads | F8: Komanda | G8: Rezultāts
A9: 1 | B9: Undīne | C9: Veidemane | D9: 5 | E9: 2005 | F9: Limbažu/Salacgrīvas NSS | G9: 0.0020856481
A10: 2 | B10: Marta Paula | C10: Brolīte | D10: 268 | E10: 2005 | F10: Jelgavas BJSS | G10: 0.0022303241
A11: 3 | B11: Dominika Helga | C11: Sikorska | D11: 332 | E11: 2005 | F11: BJSS "Rīdzene" | G11: 0.0022731481
A12: 4 | B12: Sabīne | C12: Pīlāga | D12: 51 | E12: 2005 | F12: Limbažu/Salacgrīvas NSS | G12: 0.0022905093
A13: 5 | B13: Antuanete | C13: Bāra | D13: 271 | E13: 2006 | F13: Jelgavas BJSS | G13: 0.0023344907
A14: 6 | B14: Nadežda | C14: Červinska | D14: 335 | E14: 2005 | F14: BJSS "Rīdzene" | G14: 0.0024143519
A15: 7 | B15: Gabriela | C15: Nikonova | D15: 104 | E15: 2005 | F15: Limbažu/Salacgrīvas NSS | G15: 0.0024270833
A16: 8 | B16: Anna | C16: Gude | D16: 207 | E16: 2005 | F16: AK "Kaija" | G16: 0.0024340278
A17: 9 | B17: Liene | C17: Priekule | D17: 110 | E17: 2006 | F17: Limbažu/Salacgrīvas NSS | G17: 0.0024537037
A18: 10 | B18: Monta | C18: Dimanta | D18: 226 | E18: 2005 | F18: Talsu novada SS | G18: 0.0024652778
A19: 11 | B19: Katrīna | C19: Anaško | D19: 333 | E19: 2006 | F19: BJSS "Rīdzene" | G19: 0.0025243056
A20: 12 | B20: Melānija | C20: Čamane | D20: 270 | E20: 2006 | F20: Jelgavas BJSS | G20: 0.0025509259
... A32: 24 | B32: Marta | C32: Jēkabsone | D32: 205 | E32: 2006 | F32: AK "Kaija" | G32: 0.0038263889

Sheet KOPV_M
A1: ='2005.-2006._Z_Spie'!A1:G1 -> LATVIJAS SMAIĻOTĀJU UN KANOE AIRĒTĀJU
A2: ='2005.-2006._Z_Spie'!A2:G2 -> VFS SACENSĪBAS
A3: ='2005.-2006._Z_Spie'!A3:G3 -> Limbaži, 2019.gada 2.februāris
A4: ='2005.-2006._M_Spie'!A5:G5 -> 2005.-2006.g.dz. MEITENES
A5: KOPVĒRTĒJUMS
A6: REZULTĀTI
A7: Vieta | B7: Vārds | C7: Uzvārds | D7: Nr. | E7: Dz.gads | F7: Skola | G7: Spiešana | H7: Punkti | I7: Pievilkš. | J7: Punkti | K7: Pild/b | L7: Punkti | M7: 800m | N7: Punkti | O7: KOPĀ
A8: 1 | B8: Dominika Helga | C8: Sikorska | D8: 332 | E8: 2005 | F8: BJSS "Rīdzene" | G8: 61 | H8: 1 | I8: 6 | J8: 6.5 | K8: 0:57,95 | L8: 1 | M8: 0.0022731481 | N8: 3 | O8: =H8+J8+L8+N8 -> 11.5
A9: 1 | B9: Undīne | C9: Veidemane | D9: 5 | E9: 2005 | F9: Limbažu/Salacgrīvas NSS | G9: 47 | H9: 7 | I9: 11 | J9: 2 | K9: 0:58,62 | L9: 2 | M9: 0.0020856481 | N9: 1 | O9: =H9+J9+L9+N9 -> 12
A10: 3 | B10: Sabīne | C10: Pīlāga | D10: 51 | E10: 2005 | F10: Limbažu/Salacgrīvas NSS | G10: 58 | H10: 2 | I10: 8 | J10: 4.5 | K10: 0:59,76 | L10: 4 | M10: 0.0022905093 | N10: 4 | O10: =H10+J10+L10+N10 -> 14.5
A11: 4-5 | B11: Liene | C11: Priekule | D11: 110 | E11: 2006 | F11: Limbažu/Salacgrīvas NSS | G11: 44 | H11: 10.5 | I11: 20 | J11: 1 | K11: 0:59,82 | L11: 5 | M11: 0.0024537037 | N11: 9 | O11: =H11+J11+L11+N11 -> 25.5
A12: 4-5 | B12: Gabriela | C12: Nikonova | D12: 104 | E12: 2005 | F12: Limbažu/Salacgrīvas NSS | G12: 45 | H12: 9 | I12: 10 | J12: 3 | K12: 1:02,39 | L12: 7 | M12: 0.0024270833 | N12: 7 | O12: =H12+J12+L12+N12 -> 26
A13: 6 | B13: Antuanete | C13: Bāra | D13: 271 | E13: 2006 | F13: Jelgavas BJSS | G13: 48 | H13: 5 | I13: 5 | J13: 8 | K13: 1:06,09 | L13: 12 | M13: 0.0023344907 | N13: 5 | O13: =H13+J13+L13+N13 -> 30
A14: 7 | B14: Marta Paula | C14: Brolīte | D14: 268 | E14: 2005 | F14: Jelgavas BJSS | G14: 38 | H14: 15 | I14: 1 | J14: 10.5 | K14: 0:59,39 | L14: 3 | M14: 0.0022303241 | N14: 2 | O14: =H14+J14+L14+N14 -> 30.5
A15: 8 | B15: Kate | C15: Straujā | D15: 227 | E15: 2005 | F15: Talsu novada SS | G15: 50 | H15: 4 | I15: 8 | J15: 4.5 | K15: 1:03,78 | L15: 10 | M15: 0.0025925926 | N15: 17 | O15: =H15+J15+L15+N15 -> 35.5
A16: 9 | B16: Nadežda | C16: Červinska | D16: 335 | E16: 2005 | F16: BJSS "Rīdzene" | G16: 47 | H16: 7 | I16: 0 | J16: 19 | K16: 1:01,84 | L16: 6 | M16: 0.0024143519 | N16: 6 | O16: =H16+J16+L16+N16 -> 38
A17: 10 | B17: Anna | C17: Gude | D17: 207 | E17: 2005 | F17: AK "Kaija" | G17: 38 | H17: 15 | I17: 6 | J17: 6.5 | K17: 1:08,92 | L17: 18 | M17: 0.0024340278 | N17: 8 | O17: =H17+J17+L17+N17 -> 47.5
A18: 11 | B18: Nadīna Ance | C18: Tomsone | D18: 106 | E18: 2005 | F18: Limbažu/Salacgrīvas NSS | G18: 39 | H18: 13 | I18: 1 | J18: 10.5 | K18: 1:02,95 | L18: 9 | M18: 0.0025891204 | N18: 16 | O18: =H18+J18+L18+N18 -> 48.5
A19: 12 | B19: Melānija | C19: Čamane | D19: 270 | E19: 2006 | F19: Jelgavas BJSS | G19: 42 | H19: 12 | I19: 0 | J19: 19 | K19: 1:02,75 | L19: 8 | M19: 0.0025509259 | N19: 12 | O19: =H19+J19+L19+N19 -> 51
A20: 13 | B20: Katrīna | C20: Anaško | D20: 333 | E20: 2006 | F20: BJSS "Rīdzene" | G20: 31 | H20: 19.5 | I20: 1 | J20: 10.5 | K20: 1:06,54 | L20: 14 | M20: 0.0025243056 | N20: 11 | O20: =H20+J20+L20+N20 -> 55
A21: 14 | B21: Sintija | C21: Grīnvalde | D21: 102 | E21: 2005 | F21: Limbažu/Salacgrīvas NSS | G21: 44 | H21: 10.5 | I21: 1 | J21: 10.5 | K21: 1:06,13 | L21: 13 | M21: 0.0028101852 | N21: 22 | O21: =H21+J21+L21+N21 -> 56
A22: 15 | B22: Monta | C22: Dimanta | D22: 226 | E22: 2005 | F22: Talsu novada SS | G22: 24 | H22: 22 | I22: 0 | J22: 19 | K22: 1:04,56 | L22: 11 | M22: 0.0024652778 | N22: 10 | O22: =H22+J22+L22+N22 -> 62
A23: 16 | B23: Renāte | C23: Bērziņa | D23: 55 | E23: 2005 | F23: Limbažu/Salacgrīvas NSS | G23: 53 | H23: 3 | J23: 19 | L23: 25 | M23: 0.0028078704 | N23: 21 | O23: =H23+J23+L23+N23 -> 68
A24: 17-18 | B24: Katrīna | C24: Kaula | D24: 336 | E24: 2006 | F24: BJSS "Rīdzene" | G24: 34 | H24: 18 | I24: 0 | J24: 19 | K24: 1:09,93 | L24: 20 | M24: 0.0025671296 | N24: 14 | O24: =H24+J24+L24+N24 -> 71
A25: 17-18 | B25: Sabīne | C25: Taube | D25: 105 | E25: 2005 | F25: Limbažu/Salacgrīvas NSS | G25: 47 | H25: 7 | I25: 0 | J25: 19 | K25: 1:12,60 | L25: 22 | M25: 0.0028946759 | N25: 23 | O25: =H25+J25+L25+N25 -> 71
A26: 19 | B26: Aleksandra | C26: Počtarenko | D26: 126 | E26: 2006 | F26: Jelgavas BJSS | G26: 36 | H26: 17 | I26: 0 | J26: 19 | K26: 1:08,64 | L26: 17 | M26: 0.0026435185 | N26: 19 | O26: =H26+J26+L26+N26 -> 72
A27: 20 | B27: Madara | C27: Brasliņa | D27: 269 | E27: 2005 | F27: Jelgavas BJSS | G27: 19 | H27: 24 | I27: 0 | J27: 19 | K27: 1:08,63 | L27: 16 | M27: 0.0025821759 | N27: 15 | O27: =H27+J27+L27+N27 -> 74
A28: 21 | B28: Viktorija | C28: Paune | D28: 206 | E28: 2006 | F28: AK "Kaija" | G28: 38 | H28: 15 | I28: 0 | J28: 19 | K28: 1:12,74 | L28: 23 | M28: 0.0026284722 | N28: 18 | O28: =H28+J28+L28+N28 -> 75
A29: 22 | B29: Elza | C29: Mihņēviča | D29: 228 | E29: 2006 | F29: Talsu novada SS | G29: 21 | H29: 23 | I29: 0 | J29: 19 | K29: 1:11,33 | L29: 21 | M29: 0.0025659722 | N29: 13 | O29: =H29+J29+L29+N29 -> 76
A30: 23-24 | B30: Ulrika | C30: Skreitule | D30: 393 | E30: 2006 | F30: Limbažu/Salacgrīvas NSS | G30: 31 | H30: 19.5 | J30: 19 | K30: 1:07,29 | L30: 15 | N30: 25 | O30: =H30+J30+L30+N30 -> 78.5
A31: 23-24 | B31: Annija | C31: Skreitule | D31: 52 | E31: 2005 | F31: Limbažu/Salacgrīvas NSS | G31: 25 | H31: 21 | J31: 19 | K31: 1:09,74 | L31: 19 | M31: 0.0027256944 | N31: 20 | O31: =H31+J31+L31+N31 -> 79
A32: 25 | B32: Marta | C32: Jēkabsone | D32: 205 | E32: 2006 | F32: AK "Kaija" | G32: 17 | H32: 25 | I32: 0 | J32: 19 | K32: 1:29,65 | L32: 24 | M32: 0.0038263889 | N32: 24 | O32: =H32+J32+L32+N32 -> 92
